{
 "documentInfo": {
  "Category": "",
  "Keywords": "",
  "Version": "3.5.0",
  "Comments": "",
  "AntialiasingMode": "None",
  "Title": "C:\\Users\\a475ad\\OneDrive - City of New Bedford\\Documents\\ArcGIS\\Projects\\Pavement updates 2023\\Pavement updates 2023.aprx",
  "Author": "",
  "TextAntialiasingMode": "Force",
  "Subject": ""
 },
 "maxImageWidth": 4096,
 "maxRecordCount": 1000,
 "tileInfo": {
  "lods": [
   {
    "level": 0,
    "scale": 1084568045.77468371,
    "resolution": 941463.434582111193
   },
   {
    "level": 1,
    "scale": 542284022.887341857,
    "resolution": 470731.7172910556
   },
   {
    "level": 2,
    "scale": 271142011.443670928,
    "resolution": 235365.8586455278
   },
   {
    "level": 3,
    "scale": 135571005.721835464,
    "resolution": 117682.9293227639
   },
   {
    "level": 4,
    "scale": 67785502.8609177321,
    "resolution": 58841.46466138195
   },
   {
    "level": 5,
    "scale": 33892751.4304588661,
    "resolution": 29420.7323306909748
   },
   {
    "level": 6,
    "scale": 16946375.715229433,
    "resolution": 14710.3661653454874
   },
   {
    "level": 7,
    "scale": 8473187.85761471651,
    "resolution": 7355.18308267274369
   },
   {
    "level": 8,
    "scale": 4236593.92880735826,
    "resolution": 3677.59154133637185
   },
   {
    "level": 9,
    "scale": 2118296.96440367913,
    "resolution": 1838.79577066818592
   },
   {
    "level": 10,
    "scale": 1059148.48220183956,
    "resolution": 919.397885334092962
   },
   {
    "level": 11,
    "scale": 529574.241100919782,
    "resolution": 459.698942667046481
   },
   {
    "level": 12,
    "scale": 264787.120550459891,
    "resolution": 229.84947133352324
   },
   {
    "level": 13,
    "scale": 132393.560275229946,
    "resolution": 114.92473566676162
   },
   {
    "level": 14,
    "scale": 66196.7801376149728,
    "resolution": 57.46236783338081
   },
   {
    "level": 15,
    "scale": 33098.3900688074864,
    "resolution": 28.7311839166904051
   },
   {
    "level": 16,
    "scale": 16549.1950344037432,
    "resolution": 14.3655919583452025
   },
   {
    "level": 17,
    "scale": 8274.5975172018716,
    "resolution": 7.1827959791726013
   },
   {
    "level": 18,
    "scale": 4137.2987586009358,
    "resolution": 3.5913979895863006
   },
   {
    "level": 19,
    "scale": 2068.6493793004679,
    "resolution": 1.7956989947931503
   },
   {
    "level": 20,
    "scale": 1034.32468965023395,
    "resolution": 0.89784949739657516
   },
   {
    "level": 21,
    "scale": 517.162344825116975,
    "resolution": 0.44892474869828758
   },
   {
    "level": 22,
    "scale": 258.581172412558487,
    "resolution": 0.22446237434914379
   },
   {
    "level": 23,
    "scale": 129.290586206279244,
    "resolution": 0.11223118717457189
   }
  ],
  "origin": {
   "x": -119851152.959843576,
   "y": 117215937.486761034
  },
  "format": "Mixed",
  "compressionQuality": 75,
  "rows": 256,
  "dpi": 96,
  "spatialReference": {
   "falseM": -100000,
   "xyTolerance": 0.0032808333333333331,
   "mUnits": 10000,
   "zUnits": 10000,
   "latestWkid": 6492,
   "zTolerance": 0.001,
   "wkid": 103072,
   "xyUnits": 3048.00609601219276,
   "mTolerance": 0.001,
   "falseX": -119851500,
   "falseY": -94498200,
   "falseZ": -100000
  },
  "cols": 256
 },
 "description": "",
 "datesInUnknownTimezone": false,
 "supportsQueryDomains": true,
 "units": "esriFeet",
 "maxSelectionCount": 2000,
 "supportedImageFormatTypes": "PNG32,PNG24,PNG,JPG,DIB,TIFF,EMF,PS,PDF,GIF,SVG,SVGZ,BMP",
 "supportsClipping": true,
 "maxImageHeight": 4096,
 "exportTilesAllowed": false,
 "tables": [],
 "supportsDatumTransformation": true,
 "cimVersion": "3.5.0",
 "supportsQueryDataElements": true,
 "layers": [
  {
   "subLayerIds": [
    1,
    2,
    3
   ],
   "maxScale": 0,
   "name": "CItyImageryOriginal",
   "defaultVisibility": true,
   "id": 0,
   "minScale": 0,
   "supportsDynamicLegends": false,
   "type": "Mosaic Layer",
   "parentLayerId": -1
  },
  {
   "subLayerIds": null,
   "maxScale": 0,
   "name": "Boundary",
   "defaultVisibility": false,
   "id": 1,
   "minScale": 0,
   "supportsDynamicLegends": true,
   "type": "Feature Layer",
   "parentLayerId": 0,
   "geometryType": "esriGeometryPolygon"
  },
  {
   "subLayerIds": null,
   "maxScale": 0,
   "name": "Footprint",
   "defaultVisibility": false,
   "id": 2,
   "minScale": 0,
   "supportsDynamicLegends": true,
   "type": "Feature Layer",
   "parentLayerId": 0,
   "geometryType": "esriGeometryPolygon"
  },
  {
   "subLayerIds": null,
   "maxScale": 0,
   "name": "Image",
   "defaultVisibility": true,
   "id": 3,
   "minScale": 0,
   "supportsDynamicLegends": true,
   "type": "Raster Layer",
   "parentLayerId": 0
  }
 ],
 "mapName": "CItyImageryOriginal",
 "archivingInfo": {
  "supportsHistoricMoment": false
 },
 "minScale": 66197,
 "spatialReference": {
  "falseM": -100000,
  "xyTolerance": 0.0032808333333333331,
  "mUnits": 10000,
  "zUnits": 10000,
  "latestWkid": 6492,
  "zTolerance": 0.001,
  "wkid": 103072,
  "xyUnits": 3048.00609601219276,
  "mTolerance": 0.001,
  "falseX": -119851500,
  "falseY": -94498200,
  "falseZ": -100000
 },
 "fullExtent": {
  "ymin": 2675650,
  "xmin": 794375,
  "ymax": 2750450.00001439452,
  "xmax": 821575.000152051449,
  "spatialReference": {
   "falseM": -100000,
   "xyTolerance": 0.0032808333333333331,
   "mUnits": 10000,
   "zUnits": 10000,
   "latestWkid": 6492,
   "zTolerance": 0.001,
   "wkid": 103072,
   "xyUnits": 3048.00609601219276,
   "mTolerance": 0.001,
   "falseX": -119851500,
   "falseY": -94498200,
   "falseZ": -100000
  }
 },
 "supportedExtensions": "",
 "serviceItemId": "239515a52a1e47b5a7ac33cb68fa80f6",
 "capabilities": "TilesOnly,Tilemap",
 "supportsDynamicLayers": false,
 "maxScale": 0,
 "singleFusedMapCache": true,
 "currentVersion": 11.5,
 "storageInfo": {
  "storageFormat": "esriMapCacheStorageModeCompactV2",
  "packetSize": 128
 },
 "mapUnits": {
  "uwkid": 9003
 },
 "referenceScale": 0,
 "maxExportTilesCount": 100000,
 "supportsSpatialFilter": true,
 "maxLOD": 23,
 "supportedQueryFormats": "JSON, geoJSON, PBF",
 "datumTransformations": [
  {
   "geoTransforms": [
    {
     "latestWkid": 108363,
     "transformForward": true,
     "wkid": 108363,
     "name": "WGS_1984_(ITRF08)_To_NAD_1983_2011"
    }
   ]
  },
  {
   "geoTransforms": [
    {
     "latestWkid": 108363,
     "transformForward": false,
     "wkid": 108363,
     "name": "WGS_1984_(ITRF08)_To_NAD_1983_2011"
    }
   ]
  },
  {
   "geoTransforms": [
    {
     "latestWkid": 108363,
     "transformForward": true,
     "wkid": 108363,
     "name": "WGS_1984_(ITRF08)_To_NAD_1983_2011"
    }
   ]
  },
  {
   "geoTransforms": [
    {
     "latestWkid": 108363,
     "transformForward": false,
     "wkid": 108363,
     "name": "WGS_1984_(ITRF08)_To_NAD_1983_2011"
    }
   ]
  }
 ],
 "minLOD": 14,
 "initialExtent": {
  "ymin": 2711597.93640087359,
  "xmin": 808644.712657429976,
  "ymax": 2711720.804927961,
  "xmax": 808755.188865262084,
  "spatialReference": {
   "falseM": -100000,
   "xyTolerance": 0.0032808333333333331,
   "mUnits": 10000,
   "zUnits": 10000,
   "latestWkid": 6492,
   "zTolerance": 0.001,
   "wkid": 103072,
   "xyUnits": 3048.00609601219276,
   "mTolerance": 0.001,
   "falseX": -119851500,
   "falseY": -94498200,
   "falseZ": -100000
  }
 },
 "serviceDescription": "",
 "copyrightText": "",
 "supportsTimeRelation": true
}
