View In:
ArcGIS JavaScript
ArcGIS Online Map Viewer
ArcGIS Earth
ArcGIS Pro
Service Description:
Map Name: CItyImageryOriginal
Legend
All Layers and Tables
Layers:
Description:
Service Item Id: 239515a52a1e47b5a7ac33cb68fa80f6
Copyright Text:
Spatial Reference:
103072
(6492)
Single Fused Map Cache: true
Tile Info:
- Height: 256.0
- Width: 256.0
- DPI: 96.0
-
Levels of Detail: 24
-
Level ID: 0
[ Start Tile, End Tile ]
- Resolution: 941463.434582111193
- Scale: 1084568045.77468371
-
Level ID: 1
[ Start Tile, End Tile ]
- Resolution: 470731.7172910556
- Scale: 542284022.887341857
-
Level ID: 2
[ Start Tile, End Tile ]
- Resolution: 235365.8586455278
- Scale: 271142011.443670928
-
Level ID: 3
[ Start Tile, End Tile ]
- Resolution: 117682.9293227639
- Scale: 135571005.721835464
-
Level ID: 4
[ Start Tile, End Tile ]
- Resolution: 58841.46466138195
- Scale: 67785502.8609177321
-
Level ID: 5
[ Start Tile, End Tile ]
- Resolution: 29420.7323306909748
- Scale: 33892751.4304588661
-
Level ID: 6
[ Start Tile, End Tile ]
- Resolution: 14710.3661653454874
- Scale: 16946375.715229433
-
Level ID: 7
[ Start Tile, End Tile ]
- Resolution: 7355.18308267274369
- Scale: 8473187.85761471651
-
Level ID: 8
[ Start Tile, End Tile ]
- Resolution: 3677.59154133637185
- Scale: 4236593.92880735826
-
Level ID: 9
[ Start Tile, End Tile ]
- Resolution: 1838.79577066818592
- Scale: 2118296.96440367913
-
Level ID: 10
[ Start Tile, End Tile ]
- Resolution: 919.397885334092962
- Scale: 1059148.48220183956
-
Level ID: 11
[ Start Tile, End Tile ]
- Resolution: 459.698942667046481
- Scale: 529574.241100919782
-
Level ID: 12
[ Start Tile, End Tile ]
- Resolution: 229.84947133352324
- Scale: 264787.120550459891
-
Level ID: 13
[ Start Tile, End Tile ]
- Resolution: 114.92473566676162
- Scale: 132393.560275229946
-
Level ID: 14
[ Start Tile, End Tile ]
- Resolution: 57.46236783338081
- Scale: 66196.7801376149728
-
Level ID: 15
[ Start Tile, End Tile ]
- Resolution: 28.7311839166904051
- Scale: 33098.3900688074864
-
Level ID: 16
[ Start Tile, End Tile ]
- Resolution: 14.3655919583452025
- Scale: 16549.1950344037432
-
Level ID: 17
[ Start Tile, End Tile ]
- Resolution: 7.1827959791726013
- Scale: 8274.5975172018716
-
Level ID: 18
[ Start Tile, End Tile ]
- Resolution: 3.5913979895863006
- Scale: 4137.2987586009358
-
Level ID: 19
[ Start Tile, End Tile ]
- Resolution: 1.7956989947931503
- Scale: 2068.6493793004679
-
Level ID: 20
[ Start Tile, End Tile ]
- Resolution: 0.89784949739657516
- Scale: 1034.32468965023395
-
Level ID: 21
[ Start Tile, End Tile ]
- Resolution: 0.44892474869828758
- Scale: 517.162344825116975
-
Level ID: 22
[ Start Tile, End Tile ]
- Resolution: 0.22446237434914379
- Scale: 258.581172412558487
-
Level ID: 23
[ Start Tile, End Tile ]
- Resolution: 0.11223118717457189
- Scale: 129.290586206279244
- Format: Mixed
- Compression Quality: 75.0
- Origin: X: -1.1985115295984358E8
Y: 1.1721593748676103E8
- Spatial Reference: 103072
(6492)
Storage Info:
- Storage Format: esriMapCacheStorageModeCompactV2
- Packet Size: 128
Initial Extent:
XMin: 808644.71265743
YMin: 2711597.9364008736
XMax: 808755.1888652621
YMax: 2711720.804927961
Spatial Reference: 103072
(6492)
Full Extent:
XMin: 794375.0
YMin: 2675650.0
XMax: 821575.0001520514
YMax: 2750450.0000143945
Spatial Reference: 103072
(6492)
Units: esriFeet
Supported Image Format Types: PNG32,PNG24,PNG,JPG,DIB,TIFF,EMF,PS,PDF,GIF,SVG,SVGZ,BMP
Document Info:
Title: C:\Users\a475ad\OneDrive - City of New Bedford\Documents\ArcGIS\Projects\Pavement updates 2023\Pavement updates 2023.aprx
Author:
Comments:
Subject:
Category:
Keywords:
AntialiasingMode: None
TextAntialiasingMode: Force
Supports Dynamic Layers: false
MaxRecordCount: 1000
MaxSelectionCount: 2000
MaxImageHeight: 4096
MaxImageWidth: 4096
Supported Query Formats: JSON, geoJSON, PBF
Supports Query Data Elements: true
Min Scale: 66197
Max Scale: 0
Min LOD: 14
Max LOD: 23
Supports Datum Transformation: true
Child Resources:
Info
Supported Operations:
QueryLegends
Return Updates